BEGIN:VCALENDAR
VERSION:2.0
PRODID:-//St. Rochus Kompanie Düsseldorf-Hamm - ECPv6.15.15//NONSGML v1.0//EN
CALSCALE:GREGORIAN
METHOD:PUBLISH
X-WR-CALNAME:St. Rochus Kompanie Düsseldorf-Hamm
X-ORIGINAL-URL:https://sanktrochus.de
X-WR-CALDESC:Veranstaltungen für St. Rochus Kompanie Düsseldorf-Hamm
REFRESH-INTERVAL;VALUE=DURATION:PT1H
X-Robots-Tag:noindex
X-PUBLISHED-TTL:PT1H
BEGIN:VTIMEZONE
TZID:Europe/Berlin
BEGIN:DAYLIGHT
TZOFFSETFROM:+0100
TZOFFSETTO:+0200
TZNAME:CEST
DTSTART:20240331T010000
END:DAYLIGHT
BEGIN:STANDARD
TZOFFSETFROM:+0200
TZOFFSETTO:+0100
TZNAME:CET
DTSTART:20241027T010000
END:STANDARD
BEGIN:DAYLIGHT
TZOFFSETFROM:+0100
TZOFFSETTO:+0200
TZNAME:CEST
DTSTART:20250330T010000
END:DAYLIGHT
BEGIN:STANDARD
TZOFFSETFROM:+0200
TZOFFSETTO:+0100
TZNAME:CET
DTSTART:20251026T010000
END:STANDARD
BEGIN:DAYLIGHT
TZOFFSETFROM:+0100
TZOFFSETTO:+0200
TZNAME:CEST
DTSTART:20260329T010000
END:DAYLIGHT
BEGIN:STANDARD
TZOFFSETFROM:+0200
TZOFFSETTO:+0100
TZNAME:CET
DTSTART:20261025T010000
END:STANDARD
BEGIN:DAYLIGHT
TZOFFSETFROM:+0100
TZOFFSETTO:+0200
TZNAME:CEST
DTSTART:20270328T010000
END:DAYLIGHT
BEGIN:STANDARD
TZOFFSETFROM:+0200
TZOFFSETTO:+0100
TZNAME:CET
DTSTART:20271031T010000
END:STANDARD
END:VTIMEZONE
BEGIN:VEVENT
DTSTART;TZID=Europe/Berlin:20260321T190000
DTEND;TZID=Europe/Berlin:20260321T230000
DTSTAMP:20260421T152944
CREATED:20251007T112022Z
LAST-MODIFIED:20251007T112022Z
UID:1934-1774119600-1774134000@sanktrochus.de
SUMMARY:Versammlung
DESCRIPTION:
URL:https://sanktrochus.de/event/versammlung-2/
LOCATION:Im silbernen Ring\, Hammer Dorfstraße 109\, Düsseldorf\, NRW\, 40221\, Germany
END:VEVENT
BEGIN:VEVENT
DTSTART;TZID=Europe/Berlin:20260314T190000
DTEND;TZID=Europe/Berlin:20260314T233000
DTSTAMP:20260421T152944
CREATED:20251007T074449Z
LAST-MODIFIED:20251007T074449Z
UID:1931-1773514800-1773531000@sanktrochus.de
SUMMARY:Krönungsball
DESCRIPTION:
URL:https://sanktrochus.de/event/kroenungsball/
LOCATION:Brauhaus Joh. Albrecht\, Niederkasseler Straße 104\, Düsseldorf\, NRW\, 40547\, Germany
END:VEVENT
BEGIN:VEVENT
DTSTART;TZID=Europe/Berlin:20260111T093000
DTEND;TZID=Europe/Berlin:20260111T180000
DTSTAMP:20260421T152944
CREATED:20251007T074223Z
LAST-MODIFIED:20251011T202918Z
UID:1928-1768123800-1768154400@sanktrochus.de
SUMMARY:Titularfest St. Sebastianus
DESCRIPTION:
URL:https://sanktrochus.de/event/titularfest/
LOCATION:Rochuskapelle\, Auf den Steinen 1\, Düsseldorf\, NRW\, 40221\, Germany
END:VEVENT
BEGIN:VEVENT
DTSTART;TZID=Europe/Berlin:20251207T150000
DTEND;TZID=Europe/Berlin:20251207T200000
DTSTAMP:20260421T152944
CREATED:20251007T073859Z
LAST-MODIFIED:20251007T073859Z
UID:1926-1765119600-1765137600@sanktrochus.de
SUMMARY:Weihnachtsfeier
DESCRIPTION:
URL:https://sanktrochus.de/event/weihnachtsfeier/
LOCATION:Im silbernen Ring\, Hammer Dorfstraße 109\, Düsseldorf\, NRW\, 40221\, Germany
END:VEVENT
BEGIN:VEVENT
DTSTART;TZID=Europe/Berlin:20251206T160000
DTEND;TZID=Europe/Berlin:20251206T200000
DTSTAMP:20260421T152944
CREATED:20251007T073743Z
LAST-MODIFIED:20251007T073743Z
UID:1923-1765036800-1765051200@sanktrochus.de
SUMMARY:Weihnachtssingen Kalkum
DESCRIPTION:
URL:https://sanktrochus.de/event/weihnachtssingen-kalkum/
LOCATION:Reitstall Hoffmann\, Edmund-Bertrams-Straße 54\, Düsseldorf\, NRW\, 40489\, Germany
END:VEVENT
BEGIN:VEVENT
DTSTART;TZID=Europe/Berlin:20251123T093000
DTEND;TZID=Europe/Berlin:20251123T173000
DTSTAMP:20260421T152944
CREATED:20251007T073145Z
LAST-MODIFIED:20251007T073451Z
UID:1919-1763890200-1763919000@sanktrochus.de
SUMMARY:Rochus Gedenktag
DESCRIPTION:
URL:https://sanktrochus.de/event/rochus-gedenktag/
LOCATION:St. Blasius\, Hammer Dorfstraße 121\, Düsseldorf\, NRW\, 40221\, Germany
END:VEVENT
BEGIN:VEVENT
DTSTART;VALUE=DATE:20251113
DTEND;VALUE=DATE:20251118
DTSTAMP:20260421T152944
CREATED:20251007T072137Z
LAST-MODIFIED:20251007T072137Z
UID:1909-1762992000-1763423999@sanktrochus.de
SUMMARY:Rom Wallfahrt
DESCRIPTION:
URL:https://sanktrochus.de/event/rom-wallfahrt/
LOCATION:Rom\, Vatikan\, 00120\, Holy See (Vatican City State)
END:VEVENT
BEGIN:VEVENT
DTSTART;TZID=Europe/Berlin:20251108T190000
DTEND;TZID=Europe/Berlin:20251108T233000
DTSTAMP:20260421T152944
CREATED:20251006T214023Z
LAST-MODIFIED:20251006T214103Z
UID:1892-1762628400-1762644600@sanktrochus.de
SUMMARY:Jahreshauptversammlung
DESCRIPTION:
URL:https://sanktrochus.de/event/versammlung/
LOCATION:Im silbernen Ring\, Hammer Dorfstraße 109\, Düsseldorf\, NRW\, 40221\, Germany
END:VEVENT
END:VCALENDAR