BEGIN:VCALENDAR
VERSION:2.0
PRODID:-//St. Rochus Kompanie Düsseldorf-Hamm - ECPv6.15.15//NONSGML v1.0//EN
CALSCALE:GREGORIAN
METHOD:PUBLISH
X-WR-CALNAME:St. Rochus Kompanie Düsseldorf-Hamm
X-ORIGINAL-URL:https://sanktrochus.de
X-WR-CALDESC:Veranstaltungen für St. Rochus Kompanie Düsseldorf-Hamm
REFRESH-INTERVAL;VALUE=DURATION:PT1H
X-Robots-Tag:noindex
X-PUBLISHED-TTL:PT1H
BEGIN:VTIMEZONE
TZID:Europe/Berlin
BEGIN:DAYLIGHT
TZOFFSETFROM:+0100
TZOFFSETTO:+0200
TZNAME:CEST
DTSTART:20250330T010000
END:DAYLIGHT
BEGIN:STANDARD
TZOFFSETFROM:+0200
TZOFFSETTO:+0100
TZNAME:CET
DTSTART:20251026T010000
END:STANDARD
BEGIN:DAYLIGHT
TZOFFSETFROM:+0100
TZOFFSETTO:+0200
TZNAME:CEST
DTSTART:20260329T010000
END:DAYLIGHT
BEGIN:STANDARD
TZOFFSETFROM:+0200
TZOFFSETTO:+0100
TZNAME:CET
DTSTART:20261025T010000
END:STANDARD
BEGIN:DAYLIGHT
TZOFFSETFROM:+0100
TZOFFSETTO:+0200
TZNAME:CEST
DTSTART:20270328T010000
END:DAYLIGHT
BEGIN:STANDARD
TZOFFSETFROM:+0200
TZOFFSETTO:+0100
TZNAME:CET
DTSTART:20271031T010000
END:STANDARD
END:VTIMEZONE
BEGIN:VEVENT
DTSTART;TZID=Europe/Berlin:20260530T160000
DTEND;TZID=Europe/Berlin:20260530T223000
DTSTAMP:20260421T140424
CREATED:20251007T112340Z
LAST-MODIFIED:20251007T112340Z
UID:1936-1780156800-1780180200@sanktrochus.de
SUMMARY:Kompanieschießen
DESCRIPTION:
URL:https://sanktrochus.de/event/kompanieschiessen/
LOCATION:Schützenplatz\, Nikolaus-Faber-Platz\, Düsseldorf\, NRW\, 40221\, Germany
END:VEVENT
BEGIN:VEVENT
DTSTART;TZID=Europe/Berlin:20260829T190000
DTEND;TZID=Europe/Berlin:20260829T230000
DTSTAMP:20260421T140424
CREATED:20251007T112504Z
LAST-MODIFIED:20251007T112504Z
UID:1940-1788030000-1788044400@sanktrochus.de
SUMMARY:Versammlung
DESCRIPTION:
URL:https://sanktrochus.de/event/versammlung-3/
LOCATION:Im silbernen Ring\, Hammer Dorfstraße 109\, Düsseldorf\, NRW\, 40221\, Germany
END:VEVENT
BEGIN:VEVENT
DTSTART;TZID=Europe/Berlin:20260904T180000
DTEND;TZID=Europe/Berlin:20260904T233000
DTSTAMP:20260421T140424
CREATED:20251007T112851Z
LAST-MODIFIED:20251007T112851Z
UID:1942-1788544800-1788564600@sanktrochus.de
SUMMARY:Fackelrichtfest
DESCRIPTION:
URL:https://sanktrochus.de/event/fackelrichtfest/
LOCATION:Fackelbauhalle\, Hammer Dorfstraße 80\, Düsseldorf\, NRW\, 40221\, Germany
END:VEVENT
BEGIN:VEVENT
DTSTART;VALUE=DATE:20260905
DTEND;VALUE=DATE:20260909
DTSTAMP:20260421T140424
CREATED:20251007T112937Z
LAST-MODIFIED:20251007T112937Z
UID:1945-1788566400-1788911999@sanktrochus.de
SUMMARY:Schützenfest
DESCRIPTION:
URL:https://sanktrochus.de/event/schuetzenfest/
LOCATION:Schützenplatz\, Nikolaus-Faber-Platz\, Düsseldorf\, NRW\, 40221\, Germany
END:VEVENT
BEGIN:VEVENT
DTSTART;TZID=Europe/Berlin:20260909T150000
DTEND;TZID=Europe/Berlin:20260909T210000
DTSTAMP:20260421T140424
CREATED:20251007T115253Z
LAST-MODIFIED:20251007T115253Z
UID:1947-1788966000-1788987600@sanktrochus.de
SUMMARY:Fackelabbau
DESCRIPTION:
URL:https://sanktrochus.de/event/fackelabbau/
LOCATION:Fackelbauhalle\, Hammer Dorfstraße 80\, Düsseldorf\, NRW\, 40221\, Germany
END:VEVENT
END:VCALENDAR